BEGIN:VCALENDAR
VERSION:2.0
PRODID:-//hacksw/handcal//NONSGML v1.0//EN
CALSCALE:GREGORIAN
BEGIN:VEVENT
SUMMARY:Webinar: Mark Newton’s Live Technical Analysis – May 2026
URL;VALUE=URI:https://fundstratdirect.com/event/mark-newtons-live-technical-analysis-may-2026/
LOCATION:
DESCRIPTION:https://fundstratdirect.com/event/mark-newtons-live-technical-analysis-may-2026/ Event Agenda: Join us on Thursday\, May 7 at 2pm ET as Mark Newton\, Head of Technical Strategy at Fundstrat\, provides live technical analysis on your top stocks. Submit tickers &amp\; questions for Mark here Agenda: - Market update - Live analysis of submitted stocks - Q&amp\;A Can't make it? Don't worry\, we've got you covered. A replay will be available to all Fundstrat Direct members shortly after the event. 
DTSTART:20260507T180000Z
DTEND:20260507T190000Z
DTSTAMP:20260424T061933Z
UID:69eb43b56d081
END:VEVENT
END:VCALENDAR